BEGIN:VCALENDAR
VERSION:2.0
PRODID:-//FAHMODA - ECPv6.15.20//NONSGML v1.0//EN
CALSCALE:GREGORIAN
METHOD:PUBLISH
X-WR-CALNAME:FAHMODA
X-ORIGINAL-URL:https://fahmoda.de
X-WR-CALDESC:Veranstaltungen für FAHMODA
REFRESH-INTERVAL;VALUE=DURATION:PT1H
X-Robots-Tag:noindex
X-PUBLISHED-TTL:PT1H
BEGIN:VTIMEZONE
TZID:Europe/Berlin
BEGIN:DAYLIGHT
TZOFFSETFROM:+0100
TZOFFSETTO:+0200
TZNAME:CEST
DTSTART:20180325T010000
END:DAYLIGHT
BEGIN:STANDARD
TZOFFSETFROM:+0200
TZOFFSETTO:+0100
TZNAME:CET
DTSTART:20181028T010000
END:STANDARD
BEGIN:DAYLIGHT
TZOFFSETFROM:+0100
TZOFFSETTO:+0200
TZNAME:CEST
DTSTART:20190331T010000
END:DAYLIGHT
BEGIN:STANDARD
TZOFFSETFROM:+0200
TZOFFSETTO:+0100
TZNAME:CET
DTSTART:20191027T010000
END:STANDARD
BEGIN:DAYLIGHT
TZOFFSETFROM:+0100
TZOFFSETTO:+0200
TZNAME:CEST
DTSTART:20200329T010000
END:DAYLIGHT
BEGIN:STANDARD
TZOFFSETFROM:+0200
TZOFFSETTO:+0100
TZNAME:CET
DTSTART:20201025T010000
END:STANDARD
BEGIN:DAYLIGHT
TZOFFSETFROM:+0100
TZOFFSETTO:+0200
TZNAME:CEST
DTSTART:20210328T010000
END:DAYLIGHT
BEGIN:STANDARD
TZOFFSETFROM:+0200
TZOFFSETTO:+0100
TZNAME:CET
DTSTART:20211031T010000
END:STANDARD
BEGIN:DAYLIGHT
TZOFFSETFROM:+0100
TZOFFSETTO:+0200
TZNAME:CEST
DTSTART:20220327T010000
END:DAYLIGHT
BEGIN:STANDARD
TZOFFSETFROM:+0200
TZOFFSETTO:+0100
TZNAME:CET
DTSTART:20221030T010000
END:STANDARD
BEGIN:DAYLIGHT
TZOFFSETFROM:+0100
TZOFFSETTO:+0200
TZNAME:CEST
DTSTART:20230326T010000
END:DAYLIGHT
BEGIN:STANDARD
TZOFFSETFROM:+0200
TZOFFSETTO:+0100
TZNAME:CET
DTSTART:20231029T010000
END:STANDARD
BEGIN:DAYLIGHT
TZOFFSETFROM:+0100
TZOFFSETTO:+0200
TZNAME:CEST
DTSTART:20240331T010000
END:DAYLIGHT
BEGIN:STANDARD
TZOFFSETFROM:+0200
TZOFFSETTO:+0100
TZNAME:CET
DTSTART:20241027T010000
END:STANDARD
BEGIN:DAYLIGHT
TZOFFSETFROM:+0100
TZOFFSETTO:+0200
TZNAME:CEST
DTSTART:20250330T010000
END:DAYLIGHT
BEGIN:STANDARD
TZOFFSETFROM:+0200
TZOFFSETTO:+0100
TZNAME:CET
DTSTART:20251026T010000
END:STANDARD
BEGIN:DAYLIGHT
TZOFFSETFROM:+0100
TZOFFSETTO:+0200
TZNAME:CEST
DTSTART:20260329T010000
END:DAYLIGHT
BEGIN:STANDARD
TZOFFSETFROM:+0200
TZOFFSETTO:+0100
TZNAME:CET
DTSTART:20261025T010000
END:STANDARD
BEGIN:DAYLIGHT
TZOFFSETFROM:+0100
TZOFFSETTO:+0200
TZNAME:CEST
DTSTART:20270328T010000
END:DAYLIGHT
BEGIN:STANDARD
TZOFFSETFROM:+0200
TZOFFSETTO:+0100
TZNAME:CET
DTSTART:20271031T010000
END:STANDARD
END:VTIMEZONE
BEGIN:VEVENT
DTSTART;TZID=Europe/Berlin:20260314T160000
DTEND;TZID=Europe/Berlin:20260314T220000
DTSTAMP:20260419T170028
CREATED:20250904T131412Z
LAST-MODIFIED:20260119T124554Z
UID:10443-1773504000-1773525600@fahmoda.de
SUMMARY:HANNOVER FASHION SHOW 2026
DESCRIPTION:Die HANNOVER FASHION SHOW 2026 – Courage creates Couture\nAm Samstag\, den 14. März 2026 um 16:00 – und um 19:30 Uhr\, finden zwei multimediale\, interaktive Modenschauen der FAHMODA – Akademie für Mode und Design – in der Galerie am Schloss der Herrenhäuser Gärten statt. \nWie jedes Jahr ist die HANNOVER FASHION SHOW das Jahresevent für Fachpublikum und modebegeisterte Menschen in Norddeutschland. \nDas Motto der beiden Shows lautet „COURAGE creates COUTURE“ \nDie Kraft\, die Zuversicht\, die Haltung und der Mut der Modedesignerinnen und Modedesigner lädt die Mitmenschen mit Energie und Inspiration auf. Es hat eben nicht schon alle Designs gegeben. Die Rahmenbedingungen mögen seien wie sie sind\, die Zuversicht\, Neugier und der Gestaltungswille des Modedesigns verschönern und prägen unsere Umwelt im Guten. \nDer hohe Kreativitätsanspruch in tiefer Verbindung zu Tradition\, Handwerk und Fertigungstechnologie müssen dabei dem Nachhaltigkeitsanspruch gerecht werden. Die Schülerinnen und Schüler der FAHMODA und geladene Gäste aus der Welt des Modedesigns werden aufregende und individuelle Kollektionen zeigen. \nWeiterhin gilt\, dass die FAHMODA den Absolventinnen und Absolventen feste Anstellungen als Designer quasi garantieren kann. Die FAHMODA wird weiter Meisterklassen mit dem Abschluss Bachelor Professional anbieten. \nWer sich für eine Ausbildung an der FAHMODA entschließt\, investiert in Sicherheit und eine planbare Karriere mit Zukunft in der Modewelt\, was durch die gezeigten Kollektionen visualisiert wird. \nHier Tickets bei Eventim! \n  \n 
URL:https://fahmoda.de/event/hannover-fashion-show-2026/
LOCATION:Orangerie Hannover\, Herrenhäuser Str. 3\, 30419 Hannover\, Niedersachsen
CATEGORIES:Veranstaltung
ORGANIZER;CN="Fahmoda - Akademie f%C3%BCr Mode und Design":MAILTO:info@fahmoda.de
END:VEVENT
BEGIN:VEVENT
DTSTART;VALUE=DATE:20230318
DTEND;VALUE=DATE:20230319
DTSTAMP:20260419T170028
CREATED:20221101T115749Z
LAST-MODIFIED:20221208T170826Z
UID:9818-1679097600-1679183999@fahmoda.de
SUMMARY:HANNOVER FASHION SHOW 2023
DESCRIPTION:FAHMODA und Radio21 präsentiert die HANNOVER FASHION SHOW 2023\n \n  \nKarten bekommen Sie jetzt für die Nachmittags – und Abendshow bei EVENTIM 
URL:https://fahmoda.de/event/hannover-fashion-show-2023/
LOCATION:Orangerie Hannover\, Herrenhäuser Str. 3\, 30419 Hannover\, Niedersachsen
CATEGORIES:Veranstaltung
ORGANIZER;CN="Fahmoda - Akademie f%C3%BCr Mode und Design":MAILTO:info@fahmoda.de
END:VEVENT
BEGIN:VEVENT
DTSTART;VALUE=DATE:20220202
DTEND;VALUE=DATE:20220203
DTSTAMP:20260419T170028
CREATED:20211228T111727Z
LAST-MODIFIED:20220107T105402Z
UID:8874-1643760000-1643846399@fahmoda.de
SUMMARY:Tag der offenen Tür
DESCRIPTION:  \nMittwoch\, den 2. Februar 2022. \nIn der Zeit von 13:00 – 19:00 Uhr kannst Du stündlich an einer Führung durch die FAHMODA-Schulungsräume teilnehmen. \nHole dir in den einzelnen Fachbereichen Informationen und Anregungen. \nMelde dich gleich online an oder vereinbare einen Termin!\nVon Montag bis Donnerstag in der Zeit von 10:00 bis 12:00 Uhr sind wir unter 0511 353 40 36 telefonisch zu erreichen. \n\n\n  \n\n\n\n Name (Pflichtfeld)\n \n \n Adresse (Pflichtfeld)\n \nBitte lasse dieses Feld leer.\n Telefon (Pflichtfeld)\n \n \n E-Mail-Adresse (Pflichtfeld)\n \n \n Geb. Datum\n \n \n geplanter Schulabschluss\n \n \nIch habe die Datenschutzerklärung zur Kenntnis genommen. \nIch stimme zu\, dass meine Angaben und Daten zur Beantwortung meiner Anfrage elektronisch erhoben und gespeichert werden. \nHinweis: Die Einwilligung kann jederzeit per E-Mail an info@fahmoda.de storniert werden.\n \n\n ×
URL:https://fahmoda.de/event/tag-der-offenen-tuer-2-feb-2022/
LOCATION:FAHMODA\, Akademie für Mode und Design\, Zeißstrasse 14\, 30519 Hannover\, Niedersachsen
CATEGORIES:Tag der offenen Tür,Veranstaltung
ORGANIZER;CN="Fahmoda - Akademie f%C3%BCr Mode und Design":MAILTO:info@fahmoda.de
END:VEVENT
BEGIN:VEVENT
DTSTART;TZID=Europe/Berlin:20210716T193000
DTEND;TZID=Europe/Berlin:20210716T230000
DTSTAMP:20260419T170028
CREATED:20210624T102245Z
LAST-MODIFIED:20220502T145624Z
UID:7272-1626463800-1626476400@fahmoda.de
SUMMARY:HANNOVER FASHION SHOW 2021
DESCRIPTION:FAHMODA und Radio21 proudly present:  die HANNOVER FASHION SHOW 2021\nEiner langen Tradition folgend präsentieren die Absolventen der renommierten FAHMODA\, Akademie für Mode und Design Hannover\, ihre Abschlusskollektion auf der HANNOVER FASHION SHOW 2021 am Freitag\, 16. Juli 2020 um 19:30 Uhr im Rahmen einer fulminanten Catwalk-Show. \nDieses Jahr sind die Rahmenbedingungen herausfordernd. Die HANNOVER FASHION SHOW findet daher einmalig OUTDOOR\, an einem Sommerabend\, in einer spektakulären Location mit freundlicher Unterstützung von Hannover 96 statt: \nHANNOVER FASHION SHOW 2021: \nFASHION ‘S COMING HOME \n \nDie Heinz-von-Heiden-ARENA am Maschsee \nDie gesamte Show wird live – begleitet von aufregenden Sounds – auf die großen Videowände der HDI-Arena übertragen. \nDie HANNOVER FASHION SHOW ist die perfekte Plattform für die Jungdesigner der FAHMODA Akademie für Mode und Design\, um sich und Ihre Kollektionen zu präsentieren. Für die Zuschauer ist es ein eindrucksvolles\, hochwertiges EVENT\, um Mode und deren Protagonisten hautnah zu erleben. \nPrêt-à-Porter-Kollektionsteile – High Fashion zum Anfassen \nWenn es die hygienischen Bedingungen zulassen\, sollen die Besucher auch wieder die Möglichkeit erhalten\, spezielle\, eigens von den Absolventen kreierte Teile der Kollektion auf Wunsch maßgeschneidert zu ordern. \nAuf der HANNOVER FASHION SHOW 2021 steht besondere\, selbst kreierte Mode „Made in Hannover“ im Vordergrund – maximale Nachhaltigkeit mit höchstem Modegrad. \n  \nEintrittskarten erhalten Sie ab dem 29. Juni bei EVENTIM \nFoto: Gerd Fahrenhorst    \nFotorechte: Creative-Commons-Lizenz
URL:https://fahmoda.de/event/hannover-fashion-show-2021/
LOCATION:HDI ARENA HANNOVER\, Robert-Enke-Straße 3\, Hannover\, Niedersachsen\, 30169\, Deutschland
CATEGORIES:Veranstaltung
ORGANIZER;CN="Fahmoda - Akademie f%C3%BCr Mode und Design":MAILTO:info@fahmoda.de
END:VEVENT
BEGIN:VEVENT
DTSTART;TZID=Europe/Berlin:20200314T160000
DTEND;TZID=Europe/Berlin:20200314T230000
DTSTAMP:20260419T170028
CREATED:20190501T083001Z
LAST-MODIFIED:20191218T095940Z
UID:3853-1584201600-1584226800@fahmoda.de
SUMMARY:HANNOVER FASHION SHOW 2020
DESCRIPTION:HANNOVER FASHION SHOW 2020 \nDie Absolventen der FAHMODA\, Akademie für Mode und Design Hannover\, präsentieren am 14. März 2020 ihre Abschlussarbeiten im Rahmen einer fulminanten Catwalk-Show in der Orangerie am Schloss der Herrenhäuser Gärten. \nDie Abschlussarbeiten demonstrieren nicht nur die Interdisziplinarität von Mode\, sondern analysieren und veranschaulichen zugleich die symbiotische Verbindung zwischen Mode und Kultur\, wie Mode Kultur formt und selbst von ihr geformt wird.\nUnd das Beste: Ihr könnt eigens von den Absolventen designte Prêt-à-Porter-Kollektionsteile während der Show bestellen\, die maßgeschneidert angefertigt werden. \nEs wird eine Nachmittagsveranstaltung um 16:00 Uhr – und eine Abendveranstaltung um 19:30 Uhr geben. Luisa Verfürth und Oliver Peral von Radio 21 werden die Show moderieren. \nDeine Tickets ab sofort auf www.EVENTIM.de   \nWIR FREUEN UNS AUF EUCH! \n 
URL:https://fahmoda.de/event/hannover-fashion-show-2020/
LOCATION:Orangerie Hannover\, Herrenhäuser Str. 3\, 30419 Hannover\, Niedersachsen
CATEGORIES:Veranstaltung
END:VEVENT
BEGIN:VEVENT
DTSTART;TZID=Europe/Berlin:20191130T120000
DTEND;TZID=Europe/Berlin:20191130T160000
DTSTAMP:20260419T170028
CREATED:20191021T075814Z
LAST-MODIFIED:20191021T085241Z
UID:5623-1575115200-1575129600@fahmoda.de
SUMMARY:MODELCASTING
DESCRIPTION:  \n \nAm Samstag\, den 30.11. findet von 12:00 bis 16:00 Uhr unser Modelcasting in der Fahmoda statt.\nAlle\, die Lust auf modeln und laufen bei der Hannover Fashion Show am 14.03.2020 in der Orangerie der Herrenhäuser Gärten haben\, dürfen gerne vorbeischauen!\nWir suchen Frauen ab 1\,70m und Männer ab 1\,80m.\nMitbringen müsst ihr nichts\, kommt einfach vorbei!
URL:https://fahmoda.de/event/modelcasting/
LOCATION:FAHMODA\, Akademie für Mode und Design\, Zeißstrasse 14\, 30519 Hannover\, Niedersachsen
CATEGORIES:Veranstaltung
ORGANIZER;CN="Fahmoda - Akademie f%C3%BCr Mode und Design":MAILTO:info@fahmoda.de
END:VEVENT
BEGIN:VEVENT
DTSTART;TZID=Europe/Berlin:20190711T170000
DTEND;TZID=Europe/Berlin:20190711T200000
DTSTAMP:20260419T170028
CREATED:20190501T083745Z
LAST-MODIFIED:20190707T035953Z
UID:3860-1562864400-1562875200@fahmoda.de
SUMMARY:Tag der offenen Tür - Vernissage
DESCRIPTION:Foto: HAZ Online – Quelle: Michael Wallmüller – Isabella Assmann und Anastasia Tonkha zeigen Sommermode. \nVERNISSAGE WHITE FASHION\nSOMMERMODE ? Was ist „White Fashion“  wirklich?\nWir stellen ihnen das Designprojekt des Jahrgangs MD 18 vor.\nErleben Sie fantasievolle  Outfits vom Gartenfestival Herrenhausen in den Räumen der FAHMODA. \nLassen Sie sich inspirierten !
URL:https://fahmoda.de/event/tag-der-offenen-tuer-vernissage/
LOCATION:FAHMODA\, Akademie für Mode und Design\, Zeißstrasse 14\, 30519 Hannover\, Niedersachsen
CATEGORIES:Tag der offenen Tür
END:VEVENT
BEGIN:VEVENT
DTSTART;VALUE=DATE:20190629
DTEND;VALUE=DATE:20190630
DTSTAMP:20260419T170028
CREATED:20190606T194809Z
LAST-MODIFIED:20190621T060419Z
UID:4858-1561766400-1561852799@fahmoda.de
SUMMARY:Frankfurt Style Award
DESCRIPTION:Die Teilnehmer für das Finale des FRANKfurtstyleward 2019 stehen fest\n\nWir bedanken uns bei 130 jungen Designern und Designerinnen aus 30 Ländern auf 5 Kontinenten und aus 37 Modeschulen\, die die Herausforderung angenommen und sich mit ihrem kreativen Entwurf zum Thema HEIMAT 4.0 beworben haben. \nDie folgenden FAHMODA Teilnehmerinnen wurden eingeladen\, ihre modischen Interpretationen im Finale\, das am 29. Juni 2019 auf der Tendence in Frankfurt/Main stattfindet\, zu präsentieren und an der TOP 60 COLLECTION 2019 teilzunehmen:\nLena Jordan\, Anika Dierker\, Melissa Kunz\, Stina Sophie Peters\, Dorothee Ahrens\, Morsal Alamyaar \n\n  \nWeitere Informationen & Bildanfragen:\nFRANKfurtstyleaward\nc/o PUBLIC RELATIONS PARTNERS GmbH\nHannemie Stitz-Krämer\nMesse Gelände\, Frankfurt am Main \n 
URL:https://fahmoda.de/event/frankfurt-style-award/
LOCATION:Frankfurt\, Ludwig-Erhard-Anlage 1\, 60327 Frankfurt am Main\, Hessen\, Deutschland
CATEGORIES:Veranstaltung
END:VEVENT
BEGIN:VEVENT
DTSTART;TZID=Europe/Berlin:20190609T150000
DTEND;TZID=Europe/Berlin:20190609T160000
DTSTAMP:20260419T170028
CREATED:20190606T200812Z
LAST-MODIFIED:20190606T202257Z
UID:4862-1560092400-1560096000@fahmoda.de
SUMMARY:Gartenfestival Herrenhausen
DESCRIPTION:Foto: Neue Presse Online- 20 Jahre Gartenfestival Herrenhausen zeigt „Best of“ \nDie Augen der Besucher werden sie auf sich ziehen: Zweitsemester der Modeschule Fahmoda zeigen nach der offiziellen Eröffnung „White Fashion“ – die 27 Outfits widmen sich der Auseinandersetzung mit Natur und Architektur. „Es ist experimentelle Mode“\, erklärt Olga Tonkha von der Fahmoda. \n 
URL:https://fahmoda.de/event/gartenfestival-herrenhausen/
LOCATION:Herrenhäuser Gärten – Leibniz Tempel\, Herrenhäuser Str.1\, 30419 Hannover\, Niedersachsen\, Deutschland
CATEGORIES:Ausstellung,Veranstaltung
END:VEVENT
END:VCALENDAR